BEGIN:VCALENDAR
VERSION:2.0
PRODID:Canton, GA Calendar Creator
METHOD:PUBLISH
BEGIN:VEVENT
DTSTAMP:20240401T154249
DTSTART:20240423T170000
DTEND:20240423T190000
SUMMARY:Harmon Park Grand Re-Opening and Ribbon Kicking
DESCRIPTION:Join us for the Harmon Park Grand Re-Opening and Ribbon "Kicking," April 23, from 5-7 p.m. Activities will include soccer scrimmages, food trucks, and giveaways! More details to come!&nbsp;
X-ALT-DESC;FMTTYPE=text/html:Join us for the Harmon Park Grand Re-Opening and Ribbon "Kicking," April 23, from 5-7 p.m. Activities will include soccer scrimmages, food trucks, and giveaways! More details to come!&nbsp;
LOCATION:Harmon Park\, 161 Harmon Circle Canton\, Georgia 30114-3003
CLASS:PUBLIC
END:VEVENT
END:VCALENDAR
