BEGIN:VCALENDAR
VERSION:2.0
PRODID:Canton, GA Calendar Creator
METHOD:PUBLISH
BEGIN:VEVENT
DTSTAMP:20240321T093959
DTSTART:20240510T200000
DTEND:20240510T220000
SUMMARY:Leading Ladies presented by Cherokee Theatre Company
DESCRIPTION:<p>&nbsp;Cherokee&nbsp; Theatre Company presents "Leading Ladies by Ken Ludwig", "This comedy follows two down-on-their-luck Shakespearean actors who pose as the long-lost relatives of a wealthy old lady in order to inherit her fortune. However, their plans go awry when they fall in love with the old lady's nieces and have to navigate the complications of mistaken identities&nbsp;and romantic entanglements." - tickets are $15- 18 at&nbsp;<a href="http://www.cherokeetheatre.org" target="_blank">http://www.cherokeetheatre.org/</a>&nbsp;or email boxoffice@cherokeetheatre.org or call 770-591-0282.</p><p></p>
X-ALT-DESC;FMTTYPE=text/html:<p>&nbsp;Cherokee&nbsp; Theatre Company presents "Leading Ladies by Ken Ludwig", "This comedy follows two down-on-their-luck Shakespearean actors who pose as the long-lost relatives of a wealthy old lady in order to inherit her fortune. However, their plans go awry when they fall in love with the old lady's nieces and have to navigate the complications of mistaken identities&nbsp;and romantic entanglements." - tickets are $15- 18 at&nbsp;<a href="http://www.cherokeetheatre.org" target="_blank">http://www.cherokeetheatre.org/</a>&nbsp;or email boxoffice@cherokeetheatre.org or call 770-591-0282.</p><p></p>
LOCATION:Canton Theatre\, 171 E Main St. Canton\, Georgia 30114
CLASS:PUBLIC
END:VEVENT
END:VCALENDAR
