BEGIN:VCALENDAR
VERSION:2.0
PRODID:Canton, GA Calendar Creator
METHOD:PUBLISH
BEGIN:VEVENT
DTSTAMP:20240315T164138
DTSTART:20240329T183000
DTEND:20240329T203000
SUMMARY:Aspire presents Matilda, Jr.
DESCRIPTION:<p>Aspire Dance Arts presents Matilda Jr.</p><p><a href="http://cantonga.governmentwindow.com/estore/theater/canton-theatre.html" target="_blank">Click here for tickets</a></p><p></p>
X-ALT-DESC;FMTTYPE=text/html:<p>Aspire Dance Arts presents Matilda Jr.</p><p><a href="http://cantonga.governmentwindow.com/estore/theater/canton-theatre.html" target="_blank">Click here for tickets</a></p><p></p>
LOCATION:Canton Theatre\, 171 E Main St. Canton\, Georgia 30114
CLASS:PUBLIC
END:VEVENT
END:VCALENDAR
