BEGIN:VCALENDAR
VERSION:2.0
PRODID:Canton, GA Calendar Creator
METHOD:PUBLISH
BEGIN:VEVENT
DTSTAMP:20240307T094823
DTSTART:20240316T120000
DTEND:20240317T200000
SUMMARY:Etowah Wildlife Expo
DESCRIPTION:<p>The 3rd Annual Wildlife Expo is returning to The Mill on Saint Patrick's Day Weekend! This highly-anticipated event, which draws in over 10,000 patrons each year, is open to the public and FREE for the community to enjoy.<br><br>Prepare for a thrilling lineup of attractions, including exciting Dixie Dock Diving dog performances, captivating falconry shows, enlightening fishing demonstrations, a stunning wildlife art exhibit, a vibrant carnival kid's zone, a bustling marketplace featuring 100+ vendors, delectable food trucks, live bands, and much more!</p><p>For all the details, visit <a href="https://etowahwildlifeexpo.com/" target="_blank">www.etowahwildlifeexpo.com</a>!</p>
X-ALT-DESC;FMTTYPE=text/html:<p>The 3rd Annual Wildlife Expo is returning to The Mill on Saint Patrick's Day Weekend! This highly-anticipated event, which draws in over 10,000 patrons each year, is open to the public and FREE for the community to enjoy.<br><br>Prepare for a thrilling lineup of attractions, including exciting Dixie Dock Diving dog performances, captivating falconry shows, enlightening fishing demonstrations, a stunning wildlife art exhibit, a vibrant carnival kid's zone, a bustling marketplace featuring 100+ vendors, delectable food trucks, live bands, and much more!</p><p>For all the details, visit <a href="https://etowahwildlifeexpo.com/" target="_blank">www.etowahwildlifeexpo.com</a>!</p>
LOCATION:The Mill on Etowah\, 225 Reformation Pkwy. Canton\, Georgia 30114
CLASS:PUBLIC
END:VEVENT
END:VCALENDAR
