BEGIN:VCALENDAR
VERSION:2.0
PRODID:Canton, GA Calendar Creator
METHOD:PUBLISH
BEGIN:VEVENT
DTSTAMP:20240419T095236
DTSTART:20240422T150000
DTEND:20240422T180000
SUMMARY:Teen | Young Adult Job & Volunteer Fair
DESCRIPTION:<p>Teens and Young Adults...are you looking for that summer-only job, part-time job, internship, or looking to fulfill volunteer service hours? Then join us for the City's third annual:&nbsp;</p><h3>Jobs &amp; Volunteer Fair for Teens and Young Adults</h3><h3>April 22, from 3-6 PM | City Hall Auditorium</h3><h3>Presented by the City of Canton</h3><p>Many businesses who are hiring and organizations looking for service volunteers will be there.&nbsp;These include (and this list will be updated often):</p><ul>    <li>Goshen Valley Foundation</li>    <li>La Cantina on Main (new restaurant coming to Downtown Canton in May)</li>    <li>G. Cecil Pruett Community Center and Family YMCA</li>    <li>Kidcam Summer Camps</li>    <li>Cherokee County Fire Marshal Office &amp; Safe Kids</li>    <li>Universal Alloy</li>    <li>Roytec Industries </li>    <li>Dynamo Pool Management</li>    <li>Sequoyah Regional Library System</li>    <li>Cherokee Office of Economic Development&nbsp;</li>    <li>Cherokee Parks &amp; Recreation</li>    <li>City of Canton Parks &amp; Rec</li>    <li>City of Canton Public Works</li>    <li>City of Canton Police Department</li></ul><p> You can enjoy FREE snacks and drinks while attending, and you will have plenty chances to win raffle prizes.</p><p><strong>Parents, share with your teens; Teens, tell your friends!&nbsp;</strong>Don't miss out on this exciting event!</p><p>&nbsp;If you are a business or organization interested in participating in this event, please contact Lauren Johnson at&nbsp;<a href="mailto:&#108;&#97;&#117;&#114;&#101;&#110;&#46;&#106;&#111;&#104;&#110;&#115;&#111;&#110;&#64;&#99;&#97;&#110;&#116;&#111;&#110;&#103;&#97;&#46;&#103;&#111;&#118;&#63;&#115;&#117;&#98;&#106;&#101;&#99;&#116;&#61;&#80;&#97;&#114;&#116;&#105;&#99;&#105;&#112;&#97;&#116;&#105;&#111;&#110;&#37;20&#73;&#110;&#116;&#101;&#114;&#101;&#115;&#116;&#37;20&#105;&#110;&#37;20&#84;&#101;&#101;&#110;&#37;20&#74;&#111;&#98;&#37;20&#70;&#97;&#105;&#114;">lauren.johnson@cantonga.gov</a>&nbsp;</p>
X-ALT-DESC;FMTTYPE=text/html:<p>Teens and Young Adults...are you looking for that summer-only job, part-time job, internship, or looking to fulfill volunteer service hours? Then join us for the City's third annual:&nbsp;</p><h3>Jobs &amp; Volunteer Fair for Teens and Young Adults</h3><h3>April 22, from 3-6 PM | City Hall Auditorium</h3><h3>Presented by the City of Canton</h3><p>Many businesses who are hiring and organizations looking for service volunteers will be there.&nbsp;These include (and this list will be updated often):</p><ul>    <li>Goshen Valley Foundation</li>    <li>La Cantina on Main (new restaurant coming to Downtown Canton in May)</li>    <li>G. Cecil Pruett Community Center and Family YMCA</li>    <li>Kidcam Summer Camps</li>    <li>Cherokee County Fire Marshal Office &amp; Safe Kids</li>    <li>Universal Alloy</li>    <li>Roytec Industries </li>    <li>Dynamo Pool Management</li>    <li>Sequoyah Regional Library System</li>    <li>Cherokee Office of Economic Development&nbsp;</li>    <li>Cherokee Parks &amp; Recreation</li>    <li>City of Canton Parks &amp; Rec</li>    <li>City of Canton Public Works</li>    <li>City of Canton Police Department</li></ul><p> You can enjoy FREE snacks and drinks while attending, and you will have plenty chances to win raffle prizes.</p><p><strong>Parents, share with your teens; Teens, tell your friends!&nbsp;</strong>Don't miss out on this exciting event!</p><p>&nbsp;If you are a business or organization interested in participating in this event, please contact Lauren Johnson at&nbsp;<a href="mailto:&#108;&#97;&#117;&#114;&#101;&#110;&#46;&#106;&#111;&#104;&#110;&#115;&#111;&#110;&#64;&#99;&#97;&#110;&#116;&#111;&#110;&#103;&#97;&#46;&#103;&#111;&#118;&#63;&#115;&#117;&#98;&#106;&#101;&#99;&#116;&#61;&#80;&#97;&#114;&#116;&#105;&#99;&#105;&#112;&#97;&#116;&#105;&#111;&#110;&#37;20&#73;&#110;&#116;&#101;&#114;&#101;&#115;&#116;&#37;20&#105;&#110;&#37;20&#84;&#101;&#101;&#110;&#37;20&#74;&#111;&#98;&#37;20&#70;&#97;&#105;&#114;">lauren.johnson@cantonga.gov</a>&nbsp;</p>
LOCATION:City Hall\, 110 Academy Street Canton\, Georgia 30114-3003
CLASS:PUBLIC
END:VEVENT
END:VCALENDAR
