BEGIN:VCALENDAR
VERSION:2.0
PRODID:Canton, GA Calendar Creator
METHOD:PUBLISH
BEGIN:VEVENT
DTSTAMP:20240304T162033
DTSTART:20240503T180000
DTEND:20240503T210000
SUMMARY:Downtown Canton First Friday
DESCRIPTION:<div x11i5rnm="" xat24cr="" x1mh8g0r="" x1vvkbs"="">Great music, good food, and family fun take center stage at First Friday in Downtown Canton.<br>Enjoy late night shopping, world-class restaurants, Kids Zone, food and beverage vendors along Main Street and a CRUISE IN!</div><p x11i5rnm="" xat24cr="" x1mh8g0r=""><div x11i5rnm="" xat24cr="" x1mh8g0r="" x1vvkbs"=""></div></p><div xat24cr="" x1mh8g0r="" x1vvkbs="" xtlvy1s"="">With a huge and eclectic repertoire, the Rupert’s Orchestra performs everything from current Top 40 hits to Motown, R &amp; B, Classic Rock and Big Band Swing. Their show is flashy and highly interactive. Partygoers of all ages find a lot to like and get caught up in the fun. Don't forget your chair and dancin' shoes! There's something for everyone in Downtown Canton!</div><p xat24cr="" x1mh8g0r="" x1vvkbs=""><div xat24cr="" x1mh8g0r="" x1vvkbs="" xtlvy1s"=""></div></p><div xat24cr="" x1mh8g0r="" x1vvkbs="" xtlvy1s"="">Many thanks to our First Friday sponsors!<br>Stage Sponsor - Hasty Pope<br>Presenting Sponsor - Badcock Home Furniture &amp; More of Canton<br>Platinum Sponsors:<br>Revive Day Spa &amp; Boutique Canton<br>Servicewise Electric<br>DT Chiropractic<br>MINT Dentistry - Canton<br>Go Kinetic Home Georgia<br>Your Pie<br>The Beauty Barn</div><div xat24cr="" x1mh8g0r="" x1vvkbs="" xtlvy1s"="">Kids Zone sponsors:<br>Jape Services<br>The Med Spa at Revive</div><div xat24cr="" x1mh8g0r="" x1vvkbs="" xtlvy1s"="">Gold Sponsor:<br>Searched Marketing</div>
X-ALT-DESC;FMTTYPE=text/html:<div x11i5rnm="" xat24cr="" x1mh8g0r="" x1vvkbs"="">Great music, good food, and family fun take center stage at First Friday in Downtown Canton.<br>Enjoy late night shopping, world-class restaurants, Kids Zone, food and beverage vendors along Main Street and a CRUISE IN!</div><p x11i5rnm="" xat24cr="" x1mh8g0r=""><div x11i5rnm="" xat24cr="" x1mh8g0r="" x1vvkbs"=""></div></p><div xat24cr="" x1mh8g0r="" x1vvkbs="" xtlvy1s"="">With a huge and eclectic repertoire, the Rupert’s Orchestra performs everything from current Top 40 hits to Motown, R &amp; B, Classic Rock and Big Band Swing. Their show is flashy and highly interactive. Partygoers of all ages find a lot to like and get caught up in the fun. Don't forget your chair and dancin' shoes! There's something for everyone in Downtown Canton!</div><p xat24cr="" x1mh8g0r="" x1vvkbs=""><div xat24cr="" x1mh8g0r="" x1vvkbs="" xtlvy1s"=""></div></p><div xat24cr="" x1mh8g0r="" x1vvkbs="" xtlvy1s"="">Many thanks to our First Friday sponsors!<br>Stage Sponsor - Hasty Pope<br>Presenting Sponsor - Badcock Home Furniture &amp; More of Canton<br>Platinum Sponsors:<br>Revive Day Spa &amp; Boutique Canton<br>Servicewise Electric<br>DT Chiropractic<br>MINT Dentistry - Canton<br>Go Kinetic Home Georgia<br>Your Pie<br>The Beauty Barn</div><div xat24cr="" x1mh8g0r="" x1vvkbs="" xtlvy1s"="">Kids Zone sponsors:<br>Jape Services<br>The Med Spa at Revive</div><div xat24cr="" x1mh8g0r="" x1vvkbs="" xtlvy1s"="">Gold Sponsor:<br>Searched Marketing</div>
LOCATION:Downtown Canton\, 130 East Main Street Canton\, Georgia 30114
CLASS:PUBLIC
END:VEVENT
END:VCALENDAR
