BEGIN:VCALENDAR
VERSION:2.0
PRODID:Canton, GA Calendar Creator
METHOD:PUBLISH
BEGIN:VEVENT
DTSTAMP:20240228T152923
DTSTART:20240419T200000
DTEND:20240419T213000
SUMMARY:Carrollton Jazz Orchestra
DESCRIPTION:<p>Count Basie, Duke Ellington, Thad Jones, Mel Lewis, Buddy Rich, and Dizzie Gillespie.&nbsp; &nbsp;Just some of the jazz greats whose music you will hear on April 19 when the Carrollton Jazz Orchestra returns to the historic Canton Theatre for a night of Big Band Swing!&nbsp; Join us for an unforgettable concert performed by one of the Southeast's hottest jazz bands.&nbsp;&nbsp;</p><p><a href="https://cantonga.governmentwindow.com/estore/theater/canton-theatre.html" target="_blank">Click here for tickets</a></p><p></p>
X-ALT-DESC;FMTTYPE=text/html:<p>Count Basie, Duke Ellington, Thad Jones, Mel Lewis, Buddy Rich, and Dizzie Gillespie.&nbsp; &nbsp;Just some of the jazz greats whose music you will hear on April 19 when the Carrollton Jazz Orchestra returns to the historic Canton Theatre for a night of Big Band Swing!&nbsp; Join us for an unforgettable concert performed by one of the Southeast's hottest jazz bands.&nbsp;&nbsp;</p><p><a href="https://cantonga.governmentwindow.com/estore/theater/canton-theatre.html" target="_blank">Click here for tickets</a></p><p></p>
LOCATION:Canton Theatre\, 171 E Main St. Canton\, Georgia 30114
CLASS:PUBLIC
END:VEVENT
END:VCALENDAR
