BEGIN:VCALENDAR
VERSION:2.0
PRODID:Canton, GA Calendar Creator
METHOD:PUBLISH
BEGIN:VEVENT
DTSTAMP:20240128T155208
DTSTART:20240324T150000
DTEND:20240324T170000
SUMMARY:Kansas, An Original Musical!
DESCRIPTION:<p>Lolek's Storytellers presents: Kansas, an Original Musical!&nbsp;On the verge of losing the only life she’s ever known, a cynical farm girl finds a charming man hiding in her family’s barn and decides to let him stay, oblivious to the FBI agent who’s in town looking for him. This country musical is a heartwarming story about family, friendship and the importance of forgiveness.&nbsp;<br><b>Dates</b>: March 15, 16 and 23rd @ 7:30pm, 17th and 24th&nbsp;@ 3pm</p><p>Tickets available at&nbsp;<a href="http://loleksstorytellers.com" target="_blank">http://loleksstorytellers.com/</a></p><p>&nbsp;</p>
X-ALT-DESC;FMTTYPE=text/html:<p>Lolek's Storytellers presents: Kansas, an Original Musical!&nbsp;On the verge of losing the only life she’s ever known, a cynical farm girl finds a charming man hiding in her family’s barn and decides to let him stay, oblivious to the FBI agent who’s in town looking for him. This country musical is a heartwarming story about family, friendship and the importance of forgiveness.&nbsp;<br><b>Dates</b>: March 15, 16 and 23rd @ 7:30pm, 17th and 24th&nbsp;@ 3pm</p><p>Tickets available at&nbsp;<a href="http://loleksstorytellers.com" target="_blank">http://loleksstorytellers.com/</a></p><p>&nbsp;</p>
LOCATION:Canton Theatre\, 171 E Main St. Canton\, Georgia 30114
CLASS:PUBLIC
END:VEVENT
END:VCALENDAR
