BEGIN:VCALENDAR
VERSION:2.0
PRODID:Canton, GA Calendar Creator
METHOD:PUBLISH
BEGIN:VEVENT
DTSTAMP:20240205T114047
DTSTART:20240420T100000
DTEND:20240420T150000
SUMMARY:Garden in the Park
DESCRIPTION:<p>Join us for Canton's Garden in the Park featuring handmade art, flowers, plants and more! This annual event in Cannon Park on April 20, from from 10 a.m.-3 p.m., will delight all your senses.</p><p>To become a part of this special event as a vendor, view the <a href="https://canton.prod-as.govaccess.org/home/showpublisheddocument/1123/638403944021170000" target="_blank">application here</a> or visit <a href="https://fb.me/e/9y4E7A46D" target="_blank">https://fb.me/e/9y4E7A46D</a> for more information.&nbsp;</p>
X-ALT-DESC;FMTTYPE=text/html:<p>Join us for Canton's Garden in the Park featuring handmade art, flowers, plants and more! This annual event in Cannon Park on April 20, from from 10 a.m.-3 p.m., will delight all your senses.</p><p>To become a part of this special event as a vendor, view the <a href="https://canton.prod-as.govaccess.org/home/showpublisheddocument/1123/638403944021170000" target="_blank">application here</a> or visit <a href="https://fb.me/e/9y4E7A46D" target="_blank">https://fb.me/e/9y4E7A46D</a> for more information.&nbsp;</p>
LOCATION:Cannon Park\, 130 East Main St. Canton\, Georgia 30114
CLASS:PUBLIC
END:VEVENT
END:VCALENDAR
