BEGIN:VCALENDAR
VERSION:2.0
PRODID:Canton, GA Calendar Creator
METHOD:PUBLISH
BEGIN:VEVENT
DTSTAMP:20240126T144313
DTSTART:20240302T120000
DTEND:20240302T180000
SUMMARY:West Main Arts Festival
DESCRIPTION:<p>Artists and the community alike are excited for the opportunity to hold a fine arts festival in Downtown Canton, Ga.</p><p>In the developing area of West Main Street, the connecting point between Historic Downtown and The Mill on Etowah, Fine Artists will take over the streets for an afternoon of art, food, music and family friendly fun.</p><p>There is nothing like it in the County!</p><p>For more info, or if you want to apply as an artist, please visit&nbsp;<a href="https://www.menagerieonmain.com/west-main-arts-festival" target="_blank">here</a>&nbsp;for more.</p>
X-ALT-DESC;FMTTYPE=text/html:<p>Artists and the community alike are excited for the opportunity to hold a fine arts festival in Downtown Canton, Ga.</p><p>In the developing area of West Main Street, the connecting point between Historic Downtown and The Mill on Etowah, Fine Artists will take over the streets for an afternoon of art, food, music and family friendly fun.</p><p>There is nothing like it in the County!</p><p>For more info, or if you want to apply as an artist, please visit&nbsp;<a href="https://www.menagerieonmain.com/west-main-arts-festival" target="_blank">here</a>&nbsp;for more.</p>
LOCATION:Menagerie on Main\, West Main Street Canton\, Georgia 30114
CLASS:PUBLIC
END:VEVENT
END:VCALENDAR
