BEGIN:VCALENDAR
VERSION:2.0
PRODID:Canton, GA Calendar Creator
METHOD:PUBLISH
BEGIN:VEVENT
DTSTAMP:20240122T100423
DTSTART:20240301T000000
DTEND:20240310T235900
SUMMARY:Bus Stop- Presented by Cherokee Theatre Company
DESCRIPTION:<p>This classic American play follows a group of strangers who become stranded at a small-town Kansas diner during a snowstorm. This drama explores love, loneliness, and the search for meaning and connection in a seemingly meaningless world.</p><p>Presented by Cherokee Theatre Company&nbsp;&nbsp;</p><p>Tickets available at&nbsp;<a href="http://www.cherokeetheatre.org" target="_blank">http://www.cherokeetheatre.org/</a></p><p>&nbsp;</p><p></p>
X-ALT-DESC;FMTTYPE=text/html:<p>This classic American play follows a group of strangers who become stranded at a small-town Kansas diner during a snowstorm. This drama explores love, loneliness, and the search for meaning and connection in a seemingly meaningless world.</p><p>Presented by Cherokee Theatre Company&nbsp;&nbsp;</p><p>Tickets available at&nbsp;<a href="http://www.cherokeetheatre.org" target="_blank">http://www.cherokeetheatre.org/</a></p><p>&nbsp;</p><p></p>
LOCATION:Canton Theatre\, 171 E Main St. Canton\, Georgia 30114
CLASS:PUBLIC
END:VEVENT
END:VCALENDAR
