BEGIN:VCALENDAR
VERSION:2.0
PRODID:Canton, GA Calendar Creator
METHOD:PUBLISH
BEGIN:VEVENT
DTSTAMP:20231229T102917
DTSTART:20240110T160000
DTEND:20240110T180000
SUMMARY:DMP Community Open House
DESCRIPTION:What do you love about Canton's Downtown? What needs improvement? Does there need to be more parking or more greenspace? A two-way main street or keep it as is? Less events Downtown or add a better variety of events?<br><br>On Wed., Jan. 10, from 4-6 p.m. at City Hall, you can provide your feedback on those questions and so many more at the Canton Downtown Master Plan (DMP) Community Open House. During this informative event, you can review our conceptual recommendations and let us know how you would like to see the Downtown develop!<br><br>Spread the word, as we want as much community input as possible!
X-ALT-DESC;FMTTYPE=text/html:What do you love about Canton's Downtown? What needs improvement? Does there need to be more parking or more greenspace? A two-way main street or keep it as is? Less events Downtown or add a better variety of events?<br><br>On Wed., Jan. 10, from 4-6 p.m. at City Hall, you can provide your feedback on those questions and so many more at the Canton Downtown Master Plan (DMP) Community Open House. During this informative event, you can review our conceptual recommendations and let us know how you would like to see the Downtown develop!<br><br>Spread the word, as we want as much community input as possible!
LOCATION:City Hall\, 110 Academy Street Canton\, Georgia 30114-3003
CLASS:PUBLIC
END:VEVENT
END:VCALENDAR
