BEGIN:VCALENDAR
VERSION:2.0
PRODID:Canton, GA Calendar Creator
METHOD:PUBLISH
BEGIN:VEVENT
DTSTAMP:20231219T111623
DTSTART:20240216T200000
DTEND:20240216T220000
SUMMARY:What the World Needs Now: Celebrating the music of Burt Bacharach and Hal David
DESCRIPTION:<div><b>What the World Needs Now: Celebrating the music of Burt Bacharach and Hal David&nbsp;</b>features the GSO Jazz! Combo, and the iconic music and lyrics of two great American songsmiths onstage at the Canton Theatre.&nbsp;</div><div></div><div>Pop music wouldn't be the same without one of the world's best-loved songwriting teams--Burt Bacharach and Hal David. With Bacharach's passionate melodies and David's heartfelt lyrics, they gave us hit after hit, including "Close to You," "What the World Needs Now Is Love," "Alfie," "Do You Know the Way to San Jose" and many, many others.</div><p>&nbsp;</p><p>Tickets available at&nbsp;<a href="https://ci.ovationtix.com/35553/production/1176718" target="_blank">https://ci.ovationtix.com/35553/production/1176718</a></p><div></div><div>This is a show you don't want to miss!</div><div></div><div>Featuring Sam Skelton, Director of Jazz Studies KSU&nbsp;</div><p>&nbsp;</p>
X-ALT-DESC;FMTTYPE=text/html:<div><b>What the World Needs Now: Celebrating the music of Burt Bacharach and Hal David&nbsp;</b>features the GSO Jazz! Combo, and the iconic music and lyrics of two great American songsmiths onstage at the Canton Theatre.&nbsp;</div><div></div><div>Pop music wouldn't be the same without one of the world's best-loved songwriting teams--Burt Bacharach and Hal David. With Bacharach's passionate melodies and David's heartfelt lyrics, they gave us hit after hit, including "Close to You," "What the World Needs Now Is Love," "Alfie," "Do You Know the Way to San Jose" and many, many others.</div><p>&nbsp;</p><p>Tickets available at&nbsp;<a href="https://ci.ovationtix.com/35553/production/1176718" target="_blank">https://ci.ovationtix.com/35553/production/1176718</a></p><div></div><div>This is a show you don't want to miss!</div><div></div><div>Featuring Sam Skelton, Director of Jazz Studies KSU&nbsp;</div><p>&nbsp;</p>
LOCATION:Canton Theatre\, 171 E Main St. Canton\, Georgia 30114
CLASS:PUBLIC
END:VEVENT
END:VCALENDAR
