BEGIN:VCALENDAR
VERSION:2.0
PRODID:Canton, GA Calendar Creator
METHOD:PUBLISH
BEGIN:VEVENT
DTSTAMP:20231201T140755
DTSTART:20231220T190000
DTEND:20231220T210000
SUMMARY:Nashville Noel presented by Georgia Players Guild
DESCRIPTION:<p>Introducing “Nashville Noel,” the country Christmas spectacular that will warm your heart and fill your soul with holiday cheer. This enchanting show takes you on a musical journey through the heart of Nashville, where the spirit of Christmas comes alive in the most melodious and magical way.</p><p>Accompanied by a talented ensemble of musicians, dancers, and performers, “Nashville Noel” brings together the best of country music and the magic of Christmas in a dazzling display of lights, music, and heartfelt storytelling. From toe-tapping renditions of beloved country classics to soul-stirring performances of timeless Christmas carols, this show will leave you singing along and tapping your feet in no time.</p><p>So, gather your loved ones and join us for “Nashville Noel,” a country Christmas spectacular that will leave you with a smile on your face, a song in your heart, and memories that will last a lifetime. Get ready to be swept away by the magic of Nashville and the enchantment of Christmas—it’s a show you won’t want to miss!</p><p><a href="https://gpg.ticketleap.com/nashville-noel-canton/" target="_blank">https://gpg.ticketleap.com/nashville-noel-canton/</a></p><p></p>
X-ALT-DESC;FMTTYPE=text/html:<p>Introducing “Nashville Noel,” the country Christmas spectacular that will warm your heart and fill your soul with holiday cheer. This enchanting show takes you on a musical journey through the heart of Nashville, where the spirit of Christmas comes alive in the most melodious and magical way.</p><p>Accompanied by a talented ensemble of musicians, dancers, and performers, “Nashville Noel” brings together the best of country music and the magic of Christmas in a dazzling display of lights, music, and heartfelt storytelling. From toe-tapping renditions of beloved country classics to soul-stirring performances of timeless Christmas carols, this show will leave you singing along and tapping your feet in no time.</p><p>So, gather your loved ones and join us for “Nashville Noel,” a country Christmas spectacular that will leave you with a smile on your face, a song in your heart, and memories that will last a lifetime. Get ready to be swept away by the magic of Nashville and the enchantment of Christmas—it’s a show you won’t want to miss!</p><p><a href="https://gpg.ticketleap.com/nashville-noel-canton/" target="_blank">https://gpg.ticketleap.com/nashville-noel-canton/</a></p><p></p>
LOCATION:Canton Theatre\, 171 E Main St. Canton\, Georgia 30114
CLASS:PUBLIC
END:VEVENT
END:VCALENDAR
