BEGIN:VCALENDAR
VERSION:2.0
PRODID:Canton, GA Calendar Creator
METHOD:PUBLISH
BEGIN:VEVENT
DTSTAMP:20231130T120035
DTSTART:20231206T170000
DTEND:20231206T200000
SUMMARY:Open House Workshop - Parks & Rec Master Plan
DESCRIPTION:<p>An open house workshop will be held Wed., Dec. 6, from 5-8 p.m. at City Hall, to introduce the project to the&nbsp;public and solicit feedback from the community regarding the present and future of parks and recreation in Canton. Participants will visit a series&nbsp;of stations to provide their input and learn more about the Master Plan.</p><p><strong>Stations include:</strong></p><p><strong>Where Do You Live Map&nbsp;</strong><br>Identifies what areas of the&nbsp;city were reached through&nbsp;this process</p><p><div data-page-number="1" role="region" aria-label="Page 1" data-loaded="true"><div><strong>Dot Exercise</strong>  <br role="presentation">Vote for preferred features &amp;&nbsp;favorite programs</div><div>&nbsp;</div><div><strong>Write In Comments</strong></div><div>What do you like about&nbsp;existing opportunities?&nbsp;What would you like to see&nbsp;improved? <br role="presentation"></div><ul>    <li>3 Topics:    <ul>        <li>Parks &amp; Facilities</li>        <li>Programs &amp; Special Events</li>        <li>Trails &amp; Open Space</li>    </ul>    </li></ul><div><strong>Dollar Voting</strong> <br role="presentation">$1,000 in play money to&nbsp;allocate towards the items&nbsp;listed on voting boxes&nbsp;including an “Other” option<br role="presentation"><br role="presentation">TAKE THE SURVEY! Visit bit.ly/cprmp in your web browser<div></div></div></div><div data-page-number="2" role="region" aria-label="Page 2" data-loaded="true"><div><canvas width="1020" height="1320"></canvas></div><div></div></div></p>
X-ALT-DESC;FMTTYPE=text/html:<p>An open house workshop will be held Wed., Dec. 6, from 5-8 p.m. at City Hall, to introduce the project to the&nbsp;public and solicit feedback from the community regarding the present and future of parks and recreation in Canton. Participants will visit a series&nbsp;of stations to provide their input and learn more about the Master Plan.</p><p><strong>Stations include:</strong></p><p><strong>Where Do You Live Map&nbsp;</strong><br>Identifies what areas of the&nbsp;city were reached through&nbsp;this process</p><p><div data-page-number="1" role="region" aria-label="Page 1" data-loaded="true"><div><strong>Dot Exercise</strong>  <br role="presentation">Vote for preferred features &amp;&nbsp;favorite programs</div><div>&nbsp;</div><div><strong>Write In Comments</strong></div><div>What do you like about&nbsp;existing opportunities?&nbsp;What would you like to see&nbsp;improved? <br role="presentation"></div><ul>    <li>3 Topics:    <ul>        <li>Parks &amp; Facilities</li>        <li>Programs &amp; Special Events</li>        <li>Trails &amp; Open Space</li>    </ul>    </li></ul><div><strong>Dollar Voting</strong> <br role="presentation">$1,000 in play money to&nbsp;allocate towards the items&nbsp;listed on voting boxes&nbsp;including an “Other” option<br role="presentation"><br role="presentation">TAKE THE SURVEY! Visit bit.ly/cprmp in your web browser<div></div></div></div><div data-page-number="2" role="region" aria-label="Page 2" data-loaded="true"><div><canvas width="1020" height="1320"></canvas></div><div></div></div></p>
LOCATION:City Hall\, 110 Academy Street Canton\, Georgia 30114-3003
CLASS:PUBLIC
END:VEVENT
END:VCALENDAR
