BEGIN:VCALENDAR
VERSION:2.0
PRODID:Canton, GA Calendar Creator
METHOD:PUBLISH
BEGIN:VEVENT
DTSTAMP:20231117T084910
DTSTART:20231126T150000
DTEND:20231126T170000
SUMMARY:1940s Christmas Cabaret presented by Lolek's Storytellers
DESCRIPTION:<p>Join Lolek's for our first Christmas Cabaret Fundraiser! Enjoy classics like the I'll be Home for Christmas and Winter Wonderland, as well as fun dance numbers from White Christmas.</p><p>Tickets and additional information available at&nbsp;<a href="https://loleksstorytellers.wixsite.com/loleks" target="_blank">https://loleksstorytellers.wixsite.com/loleks</a></p><p></p>
X-ALT-DESC;FMTTYPE=text/html:<p>Join Lolek's for our first Christmas Cabaret Fundraiser! Enjoy classics like the I'll be Home for Christmas and Winter Wonderland, as well as fun dance numbers from White Christmas.</p><p>Tickets and additional information available at&nbsp;<a href="https://loleksstorytellers.wixsite.com/loleks" target="_blank">https://loleksstorytellers.wixsite.com/loleks</a></p><p></p>
LOCATION:Canton Theatre\, 171 E Main St. Canton\, Georgia 30114
CLASS:PUBLIC
END:VEVENT
END:VCALENDAR
