BEGIN:VCALENDAR
VERSION:2.0
PRODID:Canton, GA Calendar Creator
METHOD:PUBLISH
BEGIN:VEVENT
DTSTAMP:20231030T151154
DTSTART:20231111T110000
DTEND:20231111T120000
SUMMARY:Veterans Day Parade
DESCRIPTION:Join us for a patriotic parade to honor Veterans Day! On Saturday, November 11, at 11 a.m., the American Legion Post 45 presents the Veterans Day Parade in Downtown Canton. The community can gather and line the streets to celebrate this time honored occasion in the City of Canton. See you there!
X-ALT-DESC;FMTTYPE=text/html:Join us for a patriotic parade to honor Veterans Day! On Saturday, November 11, at 11 a.m., the American Legion Post 45 presents the Veterans Day Parade in Downtown Canton. The community can gather and line the streets to celebrate this time honored occasion in the City of Canton. See you there!
LOCATION:Downtown Canton\, 130 East Main Street Canton\, Georgia 30114
CLASS:PUBLIC
END:VEVENT
END:VCALENDAR
