BEGIN:VCALENDAR
VERSION:2.0
PRODID:Canton, GA Calendar Creator
METHOD:PUBLISH
BEGIN:VEVENT
DTSTAMP:20231013T171903
DTSTART:20231019T160000
DTEND:20231019T173000
SUMMARY:Open House: City Comprehensive Plan
DESCRIPTION:<p>The City of Canton will host an Open House on Thursday, October 19, 2023, in the City Hall Auditorium from 4-5:30 p.m. to showcase the current progress of the comprehensive plan update and to seek additional feedback to further guide the planning process. We would love to have you join us! </p><p>The City Council meeting will follow starting at 6 p.m.</p>
X-ALT-DESC;FMTTYPE=text/html:<p>The City of Canton will host an Open House on Thursday, October 19, 2023, in the City Hall Auditorium from 4-5:30 p.m. to showcase the current progress of the comprehensive plan update and to seek additional feedback to further guide the planning process. We would love to have you join us! </p><p>The City Council meeting will follow starting at 6 p.m.</p>
LOCATION:City Hall\, 110 Academy Street Canton\, Georgia 30114-3003
CLASS:PUBLIC
END:VEVENT
END:VCALENDAR
