BEGIN:VCALENDAR
VERSION:2.0
PRODID:Canton, GA Calendar Creator
METHOD:PUBLISH
BEGIN:VEVENT
DTSTAMP:20231011T092429
DTSTART:20231209T140000
DTEND:20231209T180000
SUMMARY:Merry Market
DESCRIPTION:<a xjbqb8w="" x6umtig="" x1b1mbwd="" xaqea5y="" xav7gou="" x9f619="" x1ypdohk="" xt0psk2="" xe8uvvx="" xdj266r="" x11i5rnm="" xat24cr="" x1mh8g0r="" xexx8yu="" x4uap5="" x18d9i69="" xkhd6sd="" x16tdsg8="" x1hl2dhg="" xggy1nq="" x1a2a7pz="" xt0b8zv="" x1fey0fg"="" href="http://www.cantonga.gov/merrymarket2023?fbclid=IwAR2YebNBod9CabO_BywAo7-38hs1Lhd9ZJHS9TrEWgp70uWsiF82zNymjgU" rel="nofollow noreferrer" role="link" tabindex="0" target="_blank" style="text-decoration-line: none;"></a><div x11i5rnm="" xat24cr="" x1mh8g0r="" x1vvkbs"="">Join us for a fun afternoon of shopping, visits with Santa, live entertainment, arts &amp; crafts, food and more! Once the Market ends, the Canton Christmas Parade begins at 6 p.m.!</div><p x11i5rnm="" xat24cr="" x1mh8g0r=""><div x11i5rnm="" xat24cr="" x1mh8g0r="" x1vvkbs"=""></div></p><div xat24cr="" x1mh8g0r="" x1vvkbs="" xtlvy1s"="">For an application:&nbsp;<a xjbqb8w="" x6umtig="" x1b1mbwd="" xaqea5y="" xav7gou="" x9f619="" x1ypdohk="" xt0psk2="" xe8uvvx="" xdj266r="" x11i5rnm="" xat24cr="" x1mh8g0r="" xexx8yu="" x4uap5="" x18d9i69="" xkhd6sd="" x16tdsg8="" x1hl2dhg="" xggy1nq="" x1a2a7pz="" xt0b8zv="" x1fey0fg"="" href="http://www.cantonga.gov/merrymarket2023?fbclid=IwAR2YebNBod9CabO_BywAo7-38hs1Lhd9ZJHS9TrEWgp70uWsiF82zNymjgU" rel="nofollow noreferrer" role="link" tabindex="0" target="_blank">www.cantonga.gov/merrymarket2023</a></div>
X-ALT-DESC;FMTTYPE=text/html:<a xjbqb8w="" x6umtig="" x1b1mbwd="" xaqea5y="" xav7gou="" x9f619="" x1ypdohk="" xt0psk2="" xe8uvvx="" xdj266r="" x11i5rnm="" xat24cr="" x1mh8g0r="" xexx8yu="" x4uap5="" x18d9i69="" xkhd6sd="" x16tdsg8="" x1hl2dhg="" xggy1nq="" x1a2a7pz="" xt0b8zv="" x1fey0fg"="" href="http://www.cantonga.gov/merrymarket2023?fbclid=IwAR2YebNBod9CabO_BywAo7-38hs1Lhd9ZJHS9TrEWgp70uWsiF82zNymjgU" rel="nofollow noreferrer" role="link" tabindex="0" target="_blank" style="text-decoration-line: none;"></a><div x11i5rnm="" xat24cr="" x1mh8g0r="" x1vvkbs"="">Join us for a fun afternoon of shopping, visits with Santa, live entertainment, arts &amp; crafts, food and more! Once the Market ends, the Canton Christmas Parade begins at 6 p.m.!</div><p x11i5rnm="" xat24cr="" x1mh8g0r=""><div x11i5rnm="" xat24cr="" x1mh8g0r="" x1vvkbs"=""></div></p><div xat24cr="" x1mh8g0r="" x1vvkbs="" xtlvy1s"="">For an application:&nbsp;<a xjbqb8w="" x6umtig="" x1b1mbwd="" xaqea5y="" xav7gou="" x9f619="" x1ypdohk="" xt0psk2="" xe8uvvx="" xdj266r="" x11i5rnm="" xat24cr="" x1mh8g0r="" xexx8yu="" x4uap5="" x18d9i69="" xkhd6sd="" x16tdsg8="" x1hl2dhg="" xggy1nq="" x1a2a7pz="" xt0b8zv="" x1fey0fg"="" href="http://www.cantonga.gov/merrymarket2023?fbclid=IwAR2YebNBod9CabO_BywAo7-38hs1Lhd9ZJHS9TrEWgp70uWsiF82zNymjgU" rel="nofollow noreferrer" role="link" tabindex="0" target="_blank">www.cantonga.gov/merrymarket2023</a></div>
LOCATION:Downtown Canton\, 130 East Main Street Canton\, Georgia 30114
CLASS:PUBLIC
END:VEVENT
END:VCALENDAR
