BEGIN:VCALENDAR
VERSION:2.0
PRODID:Canton, GA Calendar Creator
METHOD:PUBLISH
BEGIN:VEVENT
DTSTAMP:20231215T131628
DTSTART:20231222T200000
DTEND:20231222T220000
SUMMARY:ELF- (2003 Film)
DESCRIPTION:<p>This event is sold out</p><p>Join us for this Holiday Family Tradition! Santa will be available for pictures when doors open 1 hour before each showing. Presenting Sponsor- Woodstock City Church</p><p>Tickets will go on sale Friday, December 15 at 9am at&nbsp;<a href="http://cantonga.governmentwindow.com/estore/theater/canton-theatre.html" target="_blank">http://cantonga.governmentwindow.com/estore/theater/canton-theatre.html</a></p><p></p>
X-ALT-DESC;FMTTYPE=text/html:<p>This event is sold out</p><p>Join us for this Holiday Family Tradition! Santa will be available for pictures when doors open 1 hour before each showing. Presenting Sponsor- Woodstock City Church</p><p>Tickets will go on sale Friday, December 15 at 9am at&nbsp;<a href="http://cantonga.governmentwindow.com/estore/theater/canton-theatre.html" target="_blank">http://cantonga.governmentwindow.com/estore/theater/canton-theatre.html</a></p><p></p>
LOCATION:Canton Theatre\, 171 E Main St. Canton\, Georgia 30114
CLASS:PUBLIC
END:VEVENT
END:VCALENDAR
