BEGIN:VCALENDAR
VERSION:2.0
PRODID:Canton, GA Calendar Creator
METHOD:PUBLISH
BEGIN:VEVENT
DTSTAMP:20231009T101536
DTSTART:20231208T000000
DTEND:20231217T235900
SUMMARY:A Christmas Carol presented by Cherokee Theatre Company
DESCRIPTION:<p>A Christmas Carol recounts the story of Ebenezer Scrooge, an elderly miser who is visited by the ghost of his former business partner Jacob Marley and the spirits of Christmas Past, Present and Yet to Come. After their visits, Scrooge is transformed into a kinder, gentler man.</p><p>Tickets available at&nbsp;<a href="http://www.cherokeetheatre.org" target="_blank">http://www.cherokeetheatre.org/</a></p>
X-ALT-DESC;FMTTYPE=text/html:<p>A Christmas Carol recounts the story of Ebenezer Scrooge, an elderly miser who is visited by the ghost of his former business partner Jacob Marley and the spirits of Christmas Past, Present and Yet to Come. After their visits, Scrooge is transformed into a kinder, gentler man.</p><p>Tickets available at&nbsp;<a href="http://www.cherokeetheatre.org" target="_blank">http://www.cherokeetheatre.org/</a></p>
LOCATION:Canton Theatre\, 171 E Main St. Canton\, Georgia 30114
CLASS:PUBLIC
END:VEVENT
END:VCALENDAR
