BEGIN:VCALENDAR
VERSION:2.0
PRODID:Canton, GA Calendar Creator
METHOD:PUBLISH
BEGIN:VEVENT
DTSTAMP:20231010T084644
DTSTART:20231202T200000
DTEND:20231202T213000
SUMMARY:A Swingin' Christmas with Carrollton Jazz Orchestra
DESCRIPTION:<p>&nbsp;Swing into the holidays with the Carrollton Jazz Orchestra, back by popular demand to present&nbsp;<i>A Swingin' Christmas</i>!&nbsp; The evening will feature exciting performances of holiday classics and amazing improvisations by some of the Southeast's greatest jazz musicians.&nbsp; This uplifting concert will create memories for your entire family that will last throughout the holiday season - and beyond.&nbsp;&nbsp;</p><p>Tickets available at&nbsp;<a href="http://cantonga.governmentwindow.com/estore/theater/canton-theatre.html" target="_blank">http://cantonga.governmentwindow.com/estore/theater/canton-theatre.html</a></p>
X-ALT-DESC;FMTTYPE=text/html:<p>&nbsp;Swing into the holidays with the Carrollton Jazz Orchestra, back by popular demand to present&nbsp;<i>A Swingin' Christmas</i>!&nbsp; The evening will feature exciting performances of holiday classics and amazing improvisations by some of the Southeast's greatest jazz musicians.&nbsp; This uplifting concert will create memories for your entire family that will last throughout the holiday season - and beyond.&nbsp;&nbsp;</p><p>Tickets available at&nbsp;<a href="http://cantonga.governmentwindow.com/estore/theater/canton-theatre.html" target="_blank">http://cantonga.governmentwindow.com/estore/theater/canton-theatre.html</a></p>
LOCATION:Canton Theatre\, 171 E Main St. Canton\, Georgia 30114
CLASS:PUBLIC
END:VEVENT
END:VCALENDAR
