BEGIN:VCALENDAR
VERSION:2.0
PRODID:Canton, GA Calendar Creator
METHOD:PUBLISH
BEGIN:VEVENT
DTSTAMP:20231128T133741
DTSTART:20231201T190000
DTEND:20231201T220000
SUMMARY:GlowBand's Hometown Christmas Show
DESCRIPTION:<p>Get ready for a festive and unforgettable night with GlowBand's Hometown Christmas Show! Our one-of-a-kind experience features an exciting lineup of your favorite artists performing all your beloved Christmas hits. This annual event is a must-see for anyone looking to get into the holiday spirit. Don't miss out on this fun journey and join us for an amazing night!&nbsp;</p><p>Tickets available at theglowband.com</p><p>&nbsp;</p>
X-ALT-DESC;FMTTYPE=text/html:<p>Get ready for a festive and unforgettable night with GlowBand's Hometown Christmas Show! Our one-of-a-kind experience features an exciting lineup of your favorite artists performing all your beloved Christmas hits. This annual event is a must-see for anyone looking to get into the holiday spirit. Don't miss out on this fun journey and join us for an amazing night!&nbsp;</p><p>Tickets available at theglowband.com</p><p>&nbsp;</p>
LOCATION:Canton Theatre\, 171 E Main St. Canton\, Georgia 30114
CLASS:PUBLIC
END:VEVENT
END:VCALENDAR
