BEGIN:VCALENDAR
VERSION:2.0
PRODID:Canton, GA Calendar Creator
METHOD:PUBLISH
BEGIN:VEVENT
DTSTAMP:20230925T161952
DTSTART:20231021T090000
DTEND:20231021T120000
SUMMARY:Think Pink Breast Cancer Awareness Walk
DESCRIPTION:<p>The City of Canton, Downtown Canton and Northside Hospital Cherokee would like to invite you to the 2nd Annual Think Pink Cherokee Breast Cancer Awareness Walk, Saturday, October 21. </p><p>This event will feature a one-mile informational walk in Downtown Canton, live entertainment, breast cancer awareness information, a walkers’ reception for all participants in the walk, and more surprises! Check in will begin at 9:00 a.m. in Cannon Park, and the walk starts at 10:30 a.m.</p><p>Pre-registration is not required, but a $20 donation on the day of is appreciated. All event shirts are given out on a first come, first served basis. Only cash and Venmo can be accepted.</p>
X-ALT-DESC;FMTTYPE=text/html:<p>The City of Canton, Downtown Canton and Northside Hospital Cherokee would like to invite you to the 2nd Annual Think Pink Cherokee Breast Cancer Awareness Walk, Saturday, October 21. </p><p>This event will feature a one-mile informational walk in Downtown Canton, live entertainment, breast cancer awareness information, a walkers’ reception for all participants in the walk, and more surprises! Check in will begin at 9:00 a.m. in Cannon Park, and the walk starts at 10:30 a.m.</p><p>Pre-registration is not required, but a $20 donation on the day of is appreciated. All event shirts are given out on a first come, first served basis. Only cash and Venmo can be accepted.</p>
LOCATION:Downtown Canton\, 130 East Main Street Canton\, Georgia 30114
CLASS:PUBLIC
END:VEVENT
END:VCALENDAR
