BEGIN:VCALENDAR
VERSION:2.0
PRODID:Canton, GA Calendar Creator
METHOD:PUBLISH
BEGIN:VEVENT
DTSTAMP:20230721T084826
DTSTART:20230901T000000
DTEND:20230910T235900
SUMMARY:The Curious Savage presented by Cherokee Theatre Company
DESCRIPTION:<p>The Curious Savage tells the story of Ethel P. Savage, a wealthy woman who is committed to a mental institution by her greedy stepchildren. This comedy explores the depths of greed, sanity, and the true meaning of happiness.</p><p>Tickets and additional information available at&nbsp;<a href="http://www.cherokeetheatre.org" target="_blank">http://www.cherokeetheatre.org/</a></p><p></p>
X-ALT-DESC;FMTTYPE=text/html:<p>The Curious Savage tells the story of Ethel P. Savage, a wealthy woman who is committed to a mental institution by her greedy stepchildren. This comedy explores the depths of greed, sanity, and the true meaning of happiness.</p><p>Tickets and additional information available at&nbsp;<a href="http://www.cherokeetheatre.org" target="_blank">http://www.cherokeetheatre.org/</a></p><p></p>
LOCATION:Canton Theatre\, 171 E Main St. Canton\, Georgia 30114
CLASS:PUBLIC
END:VEVENT
END:VCALENDAR
