BEGIN:VCALENDAR
VERSION:2.0
PRODID:Canton, GA Calendar Creator
METHOD:PUBLISH
BEGIN:VEVENT
DTSTAMP:20230721T083314
DTSTART:20231007T000000
DTEND:20231015T235900
SUMMARY:Vladimir's Diner, A New Rock Musical presented by Lolek's Storytellers
DESCRIPTION:<p>After several hundred years at Monsters Anonymous, Vladimir, a determined vampire, is ready to join the living and get a job, but through a case of mistaken identity, he ends up the owner of a failing diner. When a hell-bent development tycoon arrives with plans to demolish the diner, Vladimir must find a way to keep his identity secret before he loses his newfound home.<br>This new musical, featuring 80s style rock music, is full of life, humor, and all out family fun!</p><p>For more information and tickets, please visit&nbsp;<a href="https://loleksstorytellers.wixsite.com/loleks" target="_blank">https://loleksstorytellers.wixsite.com/loleks</a></p><p>Presented by Lolek's Storytellers</p><p></p>
X-ALT-DESC;FMTTYPE=text/html:<p>After several hundred years at Monsters Anonymous, Vladimir, a determined vampire, is ready to join the living and get a job, but through a case of mistaken identity, he ends up the owner of a failing diner. When a hell-bent development tycoon arrives with plans to demolish the diner, Vladimir must find a way to keep his identity secret before he loses his newfound home.<br>This new musical, featuring 80s style rock music, is full of life, humor, and all out family fun!</p><p>For more information and tickets, please visit&nbsp;<a href="https://loleksstorytellers.wixsite.com/loleks" target="_blank">https://loleksstorytellers.wixsite.com/loleks</a></p><p>Presented by Lolek's Storytellers</p><p></p>
LOCATION:Canton Theatre\, 171 E Main St. Canton\, Georgia 30114
CLASS:PUBLIC
END:VEVENT
END:VCALENDAR
