BEGIN:VCALENDAR
VERSION:2.0
PRODID:Canton, GA Calendar Creator
METHOD:PUBLISH
BEGIN:VEVENT
DTSTAMP:20230621T085247
DTSTART:20230826T200000
DTEND:20230826T220000
SUMMARY:The Invaders- A Musical Tribute to the British Invasion
DESCRIPTION:<div><b>THE INVADERS - A Musical Tribute To The British Invasion</b></div><div></div><div><p><b>Rock and Roll&nbsp;was born in the 1950s with the likes of&nbsp;Elvis Presley, Chuck Berry, Buddy Holly,&nbsp;and&nbsp;Little Richard. &nbsp;But as a new decade approached, the fresh and exciting musical style began to fade away.&nbsp; In the&nbsp;early 1960s&nbsp;it was believed that&nbsp;"guitar groups were on their way out."&nbsp;However, in&nbsp;late 1963, a band from&nbsp;Liverpool, England&nbsp;released a song called&nbsp;"I Want To Hold Your Hand"&nbsp;that quickly hit the&nbsp;top of the US charts.&nbsp;This band, called&nbsp;The Beatles,&nbsp;performed on the&nbsp;Ed Sullivan Show&nbsp;on&nbsp;February 9th, 1964,&nbsp;and&nbsp;Beatlemania&nbsp;swept across the country. Immediately following the sudden success of&nbsp;The Beatles, countless bands from the&nbsp;United Kingdom&nbsp;emerged and&nbsp;ruled&nbsp;the Billboard charts&nbsp;for the next few years.&nbsp;This&nbsp;phenomenon&nbsp;simply became known as the&nbsp;BRITISH INVASION.&nbsp;&nbsp;</b></p><p><b><br></b></p><p><b>Celebrating the music of The Beatles, The Rolling Stones, The Kinks, The Animals, The Who, The Hollies, Manfred Mann, The Yardbirds, The Dave Clark Five, The Zombies, The Troggs, and many other great artists of the British Invasion!</b></p><p><b>&nbsp;</b></p><p><b>Tickets available at&nbsp;<a href="http://cantonga.governmentwindow.com/estore/theater/canton-theatre.html" target="_blank">http://cantonga.governmentwindow.com/estore/theater/canton-theatre.html</a></b></p><p><b>&nbsp;</b></p><p><b></b></p></div><div></div>
X-ALT-DESC;FMTTYPE=text/html:<div><b>THE INVADERS - A Musical Tribute To The British Invasion</b></div><div></div><div><p><b>Rock and Roll&nbsp;was born in the 1950s with the likes of&nbsp;Elvis Presley, Chuck Berry, Buddy Holly,&nbsp;and&nbsp;Little Richard. &nbsp;But as a new decade approached, the fresh and exciting musical style began to fade away.&nbsp; In the&nbsp;early 1960s&nbsp;it was believed that&nbsp;"guitar groups were on their way out."&nbsp;However, in&nbsp;late 1963, a band from&nbsp;Liverpool, England&nbsp;released a song called&nbsp;"I Want To Hold Your Hand"&nbsp;that quickly hit the&nbsp;top of the US charts.&nbsp;This band, called&nbsp;The Beatles,&nbsp;performed on the&nbsp;Ed Sullivan Show&nbsp;on&nbsp;February 9th, 1964,&nbsp;and&nbsp;Beatlemania&nbsp;swept across the country. Immediately following the sudden success of&nbsp;The Beatles, countless bands from the&nbsp;United Kingdom&nbsp;emerged and&nbsp;ruled&nbsp;the Billboard charts&nbsp;for the next few years.&nbsp;This&nbsp;phenomenon&nbsp;simply became known as the&nbsp;BRITISH INVASION.&nbsp;&nbsp;</b></p><p><b><br></b></p><p><b>Celebrating the music of The Beatles, The Rolling Stones, The Kinks, The Animals, The Who, The Hollies, Manfred Mann, The Yardbirds, The Dave Clark Five, The Zombies, The Troggs, and many other great artists of the British Invasion!</b></p><p><b>&nbsp;</b></p><p><b>Tickets available at&nbsp;<a href="http://cantonga.governmentwindow.com/estore/theater/canton-theatre.html" target="_blank">http://cantonga.governmentwindow.com/estore/theater/canton-theatre.html</a></b></p><p><b>&nbsp;</b></p><p><b></b></p></div><div></div>
LOCATION:Canton Theatre\, 171 E Main St. Canton\, Georgia 30114
CLASS:PUBLIC
END:VEVENT
END:VCALENDAR
