BEGIN:VCALENDAR
VERSION:2.0
PRODID:Canton, GA Calendar Creator
METHOD:PUBLISH
BEGIN:VEVENT
DTSTAMP:20230613T163257
DTSTART:20230619T080000
DTEND:20230619T170000
SUMMARY:City Offices and Collection Site Closed for Juneteenth | June 19
DESCRIPTION:City Offices and the Collection Site at 2525 Ridge Road will be closed on Monday, June 19, in recognition of the federally recognized holiday Juneteenth.&nbsp;
X-ALT-DESC;FMTTYPE=text/html:City Offices and the Collection Site at 2525 Ridge Road will be closed on Monday, June 19, in recognition of the federally recognized holiday Juneteenth.&nbsp;
LOCATION:
CLASS:PUBLIC
END:VEVENT
END:VCALENDAR
