BEGIN:VCALENDAR
VERSION:2.0
PRODID:Canton, GA Calendar Creator
METHOD:PUBLISH
BEGIN:VEVENT
DTSTAMP:20230629T164402
DTSTART:20230704T140000
DTEND:20230704T223000
SUMMARY:Fourth of July
DESCRIPTION:<p>Join us in celebrating the 4th of July! The Patriotic Parade starts at 6 PM in Downtown Canton, and the Fireworks  start at dusk on Riverstone Parkway. We hope to see you there!</p><p>&nbsp;</p><p>&nbsp;</p><p>&nbsp;</p>
X-ALT-DESC;FMTTYPE=text/html:<p>Join us in celebrating the 4th of July! The Patriotic Parade starts at 6 PM in Downtown Canton, and the Fireworks  start at dusk on Riverstone Parkway. We hope to see you there!</p><p>&nbsp;</p><p>&nbsp;</p><p>&nbsp;</p>
LOCATION:Downtown Canton\, 130 East Main Street Canton\, Georgia 30114
CLASS:PUBLIC
END:VEVENT
END:VCALENDAR
