BEGIN:VCALENDAR
VERSION:2.0
PRODID:Canton, GA Calendar Creator
METHOD:PUBLISH
BEGIN:VEVENT
DTSTAMP:20230508T111505
DTSTART:20230915T190000
DTEND:20230915T220000
SUMMARY:Verano de Cine Familiar - Lightyear
DESCRIPTION:<p>Únete a nosotros este 8 de septiembre, "Verano de cine familiar $1.00".&nbsp;<br><br>&nbsp; 15 de septiembre -Lightyear</p><p>Para mayor información llama al 770-704-0756 ó visita http://www.cantonga.gov/events</p><br>
X-ALT-DESC;FMTTYPE=text/html:<p>Únete a nosotros este 8 de septiembre, "Verano de cine familiar $1.00".&nbsp;<br><br>&nbsp; 15 de septiembre -Lightyear</p><p>Para mayor información llama al 770-704-0756 ó visita http://www.cantonga.gov/events</p><br>
LOCATION:Canton Theatre\, 171 E Main St. Canton\, Georgia 30114
CLASS:PUBLIC
END:VEVENT
END:VCALENDAR
