BEGIN:VCALENDAR
VERSION:2.0
PRODID:Canton, GA Calendar Creator
METHOD:PUBLISH
BEGIN:VEVENT
DTSTAMP:20230724T095538
DTSTART:20230811T190000
DTEND:20230811T220000
SUMMARY:Verano de Cine Familiar - Super Mario Bros.
DESCRIPTION:<p>Únete a nosotros este 11 de agosto, "Verano de cine familiar $1.00".&nbsp; </p><p>&nbsp;11 de agosto -Super Mario Bros.</p><p>Para mayor información llama al 770-704-0756 ó visita http://www.cantonga.gov/events</p><div></div>
X-ALT-DESC;FMTTYPE=text/html:<p>Únete a nosotros este 11 de agosto, "Verano de cine familiar $1.00".&nbsp; </p><p>&nbsp;11 de agosto -Super Mario Bros.</p><p>Para mayor información llama al 770-704-0756 ó visita http://www.cantonga.gov/events</p><div></div>
LOCATION:Canton Theatre\, 171 E Main St. Canton\, Georgia 30114
CLASS:PUBLIC
END:VEVENT
END:VCALENDAR
