BEGIN:VCALENDAR
VERSION:2.0
PRODID:Canton, GA Calendar Creator
METHOD:PUBLISH
BEGIN:VEVENT
DTSTAMP:20230425T141622
DTSTART:20230812T080000
DTEND:20230812T120000
SUMMARY:10th Annual Chick-fil-A Cherokee County 5k
DESCRIPTION:<p>The Early Bird Gets the Chicken! Receive a FREE Chick-fil-A Meal with every “early bird” race entry signed up by May 31st and support 2 local charities! The 10th annual Chick-fil-A 5K is coming to Etowah River Park in Canton, GA on August 12th, 2023, and the early bird registration is open! This 5K event is hosted by the six Chick-fil-A Cherokee County restaurants, benefitting the Cherokee County Educational Foundation and Cherokee County Special Olympics. Don’t miss out on this great opportunity to support local charities and have a great time!</p><p>For more information visit: https://cherokeecounty5k.com/</p><p></p><div></div>
X-ALT-DESC;FMTTYPE=text/html:<p>The Early Bird Gets the Chicken! Receive a FREE Chick-fil-A Meal with every “early bird” race entry signed up by May 31st and support 2 local charities! The 10th annual Chick-fil-A 5K is coming to Etowah River Park in Canton, GA on August 12th, 2023, and the early bird registration is open! This 5K event is hosted by the six Chick-fil-A Cherokee County restaurants, benefitting the Cherokee County Educational Foundation and Cherokee County Special Olympics. Don’t miss out on this great opportunity to support local charities and have a great time!</p><p>For more information visit: https://cherokeecounty5k.com/</p><p></p><div></div>
LOCATION:Etowah River Park\, 600 Brown Industrial Parkway Canton\, Georgia 30114
CLASS:PUBLIC
END:VEVENT
END:VCALENDAR
