BEGIN:VCALENDAR
VERSION:2.0
PRODID:Canton, GA Calendar Creator
METHOD:PUBLISH
BEGIN:VEVENT
DTSTAMP:20230406T113623
DTSTART:20230420T160000
DTEND:20230420T173000
SUMMARY:South Canton Park Community Open House
DESCRIPTION:<p>&nbsp;The City of Canton invites you to attend a community open house. We need your input on Canton's new park! Join us at Canton City Hall Thursday, April 20, 2023 from 4:00 PM - 5:30 PM. Come learn about the new park concept and give us your feedback on our ideas.</p><p></p>
X-ALT-DESC;FMTTYPE=text/html:<p>&nbsp;The City of Canton invites you to attend a community open house. We need your input on Canton's new park! Join us at Canton City Hall Thursday, April 20, 2023 from 4:00 PM - 5:30 PM. Come learn about the new park concept and give us your feedback on our ideas.</p><p></p>
LOCATION:City Hall\, 110 Academy Street Canton\, Georgia 30114-3003
CLASS:PUBLIC
END:VEVENT
END:VCALENDAR
