BEGIN:VCALENDAR
VERSION:2.0
PRODID:Canton, GA Calendar Creator
METHOD:PUBLISH
BEGIN:VEVENT
DTSTAMP:20230405T153737
DTSTART:20230426T160000
DTEND:20230426T190000
SUMMARY:GA Cities Week - Open House
DESCRIPTION:<p>Learn all about the City of Canton in this Open House event at City Hall, from 4-7 p.m. Visit booths, ask questions, provide feedback.&nbsp;</p><p>&nbsp;</p>
X-ALT-DESC;FMTTYPE=text/html:<p>Learn all about the City of Canton in this Open House event at City Hall, from 4-7 p.m. Visit booths, ask questions, provide feedback.&nbsp;</p><p>&nbsp;</p>
LOCATION:City Hall\, 110 Academy Street Canton\, Georgia 30114-3003
CLASS:PUBLIC
END:VEVENT
END:VCALENDAR
