BEGIN:VCALENDAR
VERSION:2.0
PRODID:Canton, GA Calendar Creator
METHOD:PUBLISH
BEGIN:VEVENT
DTSTAMP:20230405T153534
DTSTART:20230425T180000
DTEND:20230425T210000
SUMMARY:GA Cities Week - Town Hall
DESCRIPTION:<p>Community gathering for City leadership to provide updates on projects and attendees to ask questions. Begins at 6 p.m at St. Paul AME-Canton.</p><p>&nbsp;</p>
X-ALT-DESC;FMTTYPE=text/html:<p>Community gathering for City leadership to provide updates on projects and attendees to ask questions. Begins at 6 p.m at St. Paul AME-Canton.</p><p>&nbsp;</p>
LOCATION:St. Paul AME\, 390 Crisler St Canton\, Georgia 30114
CLASS:PUBLIC
END:VEVENT
END:VCALENDAR
