BEGIN:VCALENDAR
VERSION:2.0
PRODID:Canton, GA Calendar Creator
METHOD:PUBLISH
BEGIN:VEVENT
DTSTAMP:20230406T114202
DTSTART:20230413T170000
DTEND:20230413T190000
SUMMARY:"It's a Vibe" Ribbon Cutting
DESCRIPTION:<p>Join us at the downtown Canton parking deck for the "It's a Vibe" mural ribbon cutting! Come celebrate the new beautiful and colorful mural done by artist Lauren Stumberg.</p>
X-ALT-DESC;FMTTYPE=text/html:<p>Join us at the downtown Canton parking deck for the "It's a Vibe" mural ribbon cutting! Come celebrate the new beautiful and colorful mural done by artist Lauren Stumberg.</p>
LOCATION:City Hall\, 110 Academy Street Canton\, Georgia 30114-3003
CLASS:PUBLIC
END:VEVENT
END:VCALENDAR
