BEGIN:VCALENDAR
VERSION:2.0
PRODID:Canton, GA Calendar Creator
METHOD:PUBLISH
BEGIN:VEVENT
DTSTAMP:20230525T121416
DTSTART:20230727T100000
DTEND:20230727T140000
SUMMARY:$1 Summer Series: Lightyear
DESCRIPTION:<p>Join us for our $1 Summer Family Film Series each Thursday in June and July at 10am and 2pm. <br><br>July 27th - Lightyear</p><p>Legendary space ranger Buzz Lightyear embarks on an intergalactic adventure alongside ambitious recruits Izzy, Mo, Darby, and his robot companion, Sox. As this motley crew tackles their toughest mission yet, they must learn to work together as a team to escape the evil Zurg and his dutiful robot army that are never far behind.<br><br>Tickets will go on sale online only at 10am on Friday, July 21 at the following link:&nbsp;<a href="http://cantonga.governmentwindow.com/estore/theater/canton-theatre.html" target="_blank">http://cantonga.governmentwindow.com/estore/theater/canton-theatre.html</a></p><p></p>
X-ALT-DESC;FMTTYPE=text/html:<p>Join us for our $1 Summer Family Film Series each Thursday in June and July at 10am and 2pm. <br><br>July 27th - Lightyear</p><p>Legendary space ranger Buzz Lightyear embarks on an intergalactic adventure alongside ambitious recruits Izzy, Mo, Darby, and his robot companion, Sox. As this motley crew tackles their toughest mission yet, they must learn to work together as a team to escape the evil Zurg and his dutiful robot army that are never far behind.<br><br>Tickets will go on sale online only at 10am on Friday, July 21 at the following link:&nbsp;<a href="http://cantonga.governmentwindow.com/estore/theater/canton-theatre.html" target="_blank">http://cantonga.governmentwindow.com/estore/theater/canton-theatre.html</a></p><p></p>
LOCATION:Canton Theatre\, 171 E Main St. Canton\, Georgia 30114
CLASS:PUBLIC
END:VEVENT
END:VCALENDAR
