BEGIN:VCALENDAR
VERSION:2.0
PRODID:Canton, GA Calendar Creator
METHOD:PUBLISH
BEGIN:VEVENT
DTSTAMP:20230525T121325
DTSTART:20230720T100000
DTEND:20230720T140000
SUMMARY:$1 Summer Series: DC League of Super-Pets
DESCRIPTION:<p>Join us for our $1 Summer Family Film Series each Thursday in June and July at 10am and 2pm.<br><br>July 20th - DC League of Super-Pets<br><br>Krypto the Super-Dog and Superman are inseparable best friends, sharing the same superpowers and fighting crime side by side in Metropolis. However, when the Man of Steel and the rest of the Justice League are kidnapped, Krypto must convince a ragtag group of animals to master their own newfound powers for a rescue mission.</p><p>&nbsp;Tickets will go on sale online only at 10am on Friday, July 14 at the following link:&nbsp;<a href="http://cantonga.governmentwindow.com/estore/theater/canton-theatre.html" target="_blank">http://cantonga.governmentwindow.com/estore/theater/canton-theatre.html</a></p><p></p>
X-ALT-DESC;FMTTYPE=text/html:<p>Join us for our $1 Summer Family Film Series each Thursday in June and July at 10am and 2pm.<br><br>July 20th - DC League of Super-Pets<br><br>Krypto the Super-Dog and Superman are inseparable best friends, sharing the same superpowers and fighting crime side by side in Metropolis. However, when the Man of Steel and the rest of the Justice League are kidnapped, Krypto must convince a ragtag group of animals to master their own newfound powers for a rescue mission.</p><p>&nbsp;Tickets will go on sale online only at 10am on Friday, July 14 at the following link:&nbsp;<a href="http://cantonga.governmentwindow.com/estore/theater/canton-theatre.html" target="_blank">http://cantonga.governmentwindow.com/estore/theater/canton-theatre.html</a></p><p></p>
LOCATION:Canton Theatre\, 171 E Main St. Canton\, Georgia 30114
CLASS:PUBLIC
END:VEVENT
END:VCALENDAR
