BEGIN:VCALENDAR
VERSION:2.0
PRODID:Canton, GA Calendar Creator
METHOD:PUBLISH
BEGIN:VEVENT
DTSTAMP:20230525T121041
DTSTART:20230629T100000
DTEND:20230629T140000
SUMMARY:$1 Summer Series: Lyle, Lyle, Crocodile
DESCRIPTION:<p>Join us for our $1 Summer Family Film Series each Thursday in June and July at 10am and 2pm. <br><br>June 29th - Lyle, Lyle, Crocodile</p><p>When the Primm family moves to New York City, their young son, Josh, struggles to adapt to his new school and friends. All of that changes when he discovers Lyle, a singing crocodile that loves baths, caviar and great music. The two become fast friends, but when evil neighbor Mr. Grumps threatens Lyle's existence, the Primms must band together to show the world that family can come from the most unexpected places.</p><p>Tickets will go on sale online only at 10am on Friday, June 23 at the following link:&nbsp;<a href="http://cantonga.governmentwindow.com/estore/theater/canton-theatre.html" target="_blank">http://cantonga.governmentwindow.com/estore/theater/canton-theatre.html</a></p><p></p>
X-ALT-DESC;FMTTYPE=text/html:<p>Join us for our $1 Summer Family Film Series each Thursday in June and July at 10am and 2pm. <br><br>June 29th - Lyle, Lyle, Crocodile</p><p>When the Primm family moves to New York City, their young son, Josh, struggles to adapt to his new school and friends. All of that changes when he discovers Lyle, a singing crocodile that loves baths, caviar and great music. The two become fast friends, but when evil neighbor Mr. Grumps threatens Lyle's existence, the Primms must band together to show the world that family can come from the most unexpected places.</p><p>Tickets will go on sale online only at 10am on Friday, June 23 at the following link:&nbsp;<a href="http://cantonga.governmentwindow.com/estore/theater/canton-theatre.html" target="_blank">http://cantonga.governmentwindow.com/estore/theater/canton-theatre.html</a></p><p></p>
LOCATION:Canton Theatre\, 171 E Main St. Canton\, Georgia 30114
CLASS:PUBLIC
END:VEVENT
END:VCALENDAR
