BEGIN:VCALENDAR
VERSION:2.0
PRODID:Canton, GA Calendar Creator
METHOD:PUBLISH
BEGIN:VEVENT
DTSTAMP:20230525T121000
DTSTART:20230622T100000
DTEND:20230622T140000
SUMMARY:$1 Summer Series: Wakanda Forever
DESCRIPTION:<p>&nbsp;Join us for our $1 Summer Family Film Series each Thursday in June and July at 10am and 2pm.</p><p>June 22nd - Wakanda Forever</p><p>Queen Ramonda, Shuri, M'Baku, Okoye and the Dora Milaje fight to protect their nation from intervening world powers in the wake of King T'Challa's death. As the Wakandans strive to embrace their next chapter, the heroes must band together with Nakia and Everett Ross to forge a new path for their beloved kingdom.</p><p>Tickets will go on sale online only at 10am on Friday, June 16 at the following link:&nbsp;<a href="http://cantonga.governmentwindow.com/estore/theater/canton-theatre.html" target="_blank">http://cantonga.governmentwindow.com/estore/theater/canton-theatre.html</a></p><p></p><p>&nbsp;</p>
X-ALT-DESC;FMTTYPE=text/html:<p>&nbsp;Join us for our $1 Summer Family Film Series each Thursday in June and July at 10am and 2pm.</p><p>June 22nd - Wakanda Forever</p><p>Queen Ramonda, Shuri, M'Baku, Okoye and the Dora Milaje fight to protect their nation from intervening world powers in the wake of King T'Challa's death. As the Wakandans strive to embrace their next chapter, the heroes must band together with Nakia and Everett Ross to forge a new path for their beloved kingdom.</p><p>Tickets will go on sale online only at 10am on Friday, June 16 at the following link:&nbsp;<a href="http://cantonga.governmentwindow.com/estore/theater/canton-theatre.html" target="_blank">http://cantonga.governmentwindow.com/estore/theater/canton-theatre.html</a></p><p></p><p>&nbsp;</p>
LOCATION:Canton Theatre\, 171 E Main St. Canton\, Georgia 30114
CLASS:PUBLIC
END:VEVENT
END:VCALENDAR
