BEGIN:VCALENDAR
VERSION:2.0
PRODID:Canton, GA Calendar Creator
METHOD:PUBLISH
BEGIN:VEVENT
DTSTAMP:20230321T130219
DTSTART:20230708T090000
DTEND:20230708T150000
SUMMARY:Southern Tradition Car & Truck Show
DESCRIPTION:Southern Tradition Car &amp; Truck Show is open to all makes and models. July 7-9th, 2023 it is our 6th year hosting the show and it gets bigger every year!&nbsp; Follow us on FB to get the latest updates for the Pre-Party Friday night event, hours of the event for Saturday and Sunday. Pre-register your vehicle, pre order your shirts and banners all on our website now. Registration can also be done the day of the event.&nbsp;<div>&nbsp;</div><p>For more information visit:&nbsp;https://www.facebook.com/events/s/southern-tradition-show/1174909263422535/&nbsp;</p><p></p>
X-ALT-DESC;FMTTYPE=text/html:Southern Tradition Car &amp; Truck Show is open to all makes and models. July 7-9th, 2023 it is our 6th year hosting the show and it gets bigger every year!&nbsp; Follow us on FB to get the latest updates for the Pre-Party Friday night event, hours of the event for Saturday and Sunday. Pre-register your vehicle, pre order your shirts and banners all on our website now. Registration can also be done the day of the event.&nbsp;<div>&nbsp;</div><p>For more information visit:&nbsp;https://www.facebook.com/events/s/southern-tradition-show/1174909263422535/&nbsp;</p><p></p>
LOCATION:Etowah River Park\, 600 Brown Industrial Parkway Canton\, Georgia 30114
CLASS:PUBLIC
END:VEVENT
END:VCALENDAR
