BEGIN:VCALENDAR
VERSION:2.0
PRODID:Canton, GA Calendar Creator
METHOD:PUBLISH
BEGIN:VEVENT
DTSTAMP:20230320T152515
DTSTART:20230621T190000
DTEND:20230621T223000
SUMMARY:WPSL - Georgia Impact vs. Atlanta Fire United
DESCRIPTION:<p>Join us in watching the Women's Professional Soccer League home game! Georgia Impact will go toe-to-toe with Atlanta Fire United at Cherokee High School. Come watch the game and take part in food trucks, merchandise for sale, halftime games, kids zone, concession stand, sponsor vendors, music etc.&nbsp;</p><p></p>
X-ALT-DESC;FMTTYPE=text/html:<p>Join us in watching the Women's Professional Soccer League home game! Georgia Impact will go toe-to-toe with Atlanta Fire United at Cherokee High School. Come watch the game and take part in food trucks, merchandise for sale, halftime games, kids zone, concession stand, sponsor vendors, music etc.&nbsp;</p><p></p>
LOCATION:Cherokee High School\, 930 Marietta Hwy Canton\, Georgia 30114
CLASS:PUBLIC
END:VEVENT
END:VCALENDAR
