BEGIN:VCALENDAR
VERSION:2.0
PRODID:Canton, GA Calendar Creator
METHOD:PUBLISH
BEGIN:VEVENT
DTSTAMP:20230420T135631
DTSTART:20230505T180000
DTEND:20230505T210000
SUMMARY:First Friday - The Return
DESCRIPTION:<p>Join your friends in Downtown Canton for a family friendly fun night filled with live entertainment with The Return, extended shopping hours, restaurants ready to welcome you, Kids Zone, food and beverage vendors along Main Street and a CRUISE IN! Don't forget your chair and dancin' shoes! Taking you back to the 60s,&nbsp; is The Return!&nbsp;The Return got its start back in 1995 when four young friends got together to play their favorite Beatles songs just for the fun of it. It wasn’t long before they played in front of an audience at the request of a friend and as it turned out, were very well received. Let's come together and have fun!</p><p>SPECIAL THANKS TO OUR FIRST FRIDAY SPONSORS!!<br>Canton Stage Sponsor - Hasty Pope<br>Presenting Sponsor - Rob Taylor with Great Sky Realty Group<br>Platinum Sponsors - Servicewise Electric, Revive Day Spa &amp; Boutique Canton, Rock N Roll Sushi Canton, Jape Services, Your Pie, and Sanctu•aire Canton<br>Gold Sponsors - Universal Alloy Corporation, Waste Pro USA, Capital Recovery Corporation, Go Kinetic Home Georgia, TapatiosCanton, Indulgence Fine Jewelry and Searched Marketing<br>Kids Zone Sponsors - DT Chiropractic, ClickFunnels and The Med Spa at Revive<br>Silver Sponsor - Darby Funeral Home</p><p>For more information visit:&nbsp;https://www.facebook.com/photo/?fbid=683525500447288&amp;set=a.494548039345036</p><p></p><div></div>
X-ALT-DESC;FMTTYPE=text/html:<p>Join your friends in Downtown Canton for a family friendly fun night filled with live entertainment with The Return, extended shopping hours, restaurants ready to welcome you, Kids Zone, food and beverage vendors along Main Street and a CRUISE IN! Don't forget your chair and dancin' shoes! Taking you back to the 60s,&nbsp; is The Return!&nbsp;The Return got its start back in 1995 when four young friends got together to play their favorite Beatles songs just for the fun of it. It wasn’t long before they played in front of an audience at the request of a friend and as it turned out, were very well received. Let's come together and have fun!</p><p>SPECIAL THANKS TO OUR FIRST FRIDAY SPONSORS!!<br>Canton Stage Sponsor - Hasty Pope<br>Presenting Sponsor - Rob Taylor with Great Sky Realty Group<br>Platinum Sponsors - Servicewise Electric, Revive Day Spa &amp; Boutique Canton, Rock N Roll Sushi Canton, Jape Services, Your Pie, and Sanctu•aire Canton<br>Gold Sponsors - Universal Alloy Corporation, Waste Pro USA, Capital Recovery Corporation, Go Kinetic Home Georgia, TapatiosCanton, Indulgence Fine Jewelry and Searched Marketing<br>Kids Zone Sponsors - DT Chiropractic, ClickFunnels and The Med Spa at Revive<br>Silver Sponsor - Darby Funeral Home</p><p>For more information visit:&nbsp;https://www.facebook.com/photo/?fbid=683525500447288&amp;set=a.494548039345036</p><p></p><div></div>
LOCATION:Downtown Canton\, 130 East Main Street Canton\, Georgia 30114
CLASS:PUBLIC
END:VEVENT
END:VCALENDAR
