BEGIN:VCALENDAR
VERSION:2.0
PRODID:Canton, GA Calendar Creator
METHOD:PUBLISH
BEGIN:VEVENT
DTSTAMP:20230420T135810
DTSTART:20230804T180000
DTEND:20230804T210000
SUMMARY:First Friday - Elton Live! The Elton John Experience
DESCRIPTION:<p>Join your friends in Downtown Canton for a family friendly fun night filled with live entertainment with Elton Live!, extended shopping hours, restaurants ready to welcome you, Kids Zone, food and beverage vendors along Main Street and a CRUISE IN! Don't forget your chair and dancin' shoes!</p><p>Elton Live! — The Elton John Experience offers the most complete and authentic reproduction of Sir Elton John’s live concert performance in the world. Their shows are the most accurate representation of Sir Elton John in his absolute prime of the 1970's, 80's, 90's and beyond!</p><p>SPECIAL THANKS TO OUR FIRST FRIDAY SPONSORS!!<br>Canton Stage Sponsor - Hasty Pope<br>Presenting Sponsor - Rob Taylor with Great Sky Realty Group<br>Platinum Sponsors - Servicewise Electric, Revive Day Spa &amp; Boutique Canton, Rock N Roll Sushi Canton, Jape Services, Your Pie, and Sanctu•aire Canton<br>Gold Sponsors - Universal Alloy Corporation, Waste Pro USA, Capital Recovery Corporation, Go Kinetic Home Georgia, TapatiosCanton, Indulgence Fine Jewelry and Searched Marketing<br>Kids Zone Sponsors - DT Chiropractic, ClickFunnels and The Med Spa at Revive<br>Silver Sponsor - Darby Funeral Home<br><br>For more information visit: https://www.facebook.com/photo/?fbid=683525500447288&amp;set=a.494548039345036</p><p></p>
X-ALT-DESC;FMTTYPE=text/html:<p>Join your friends in Downtown Canton for a family friendly fun night filled with live entertainment with Elton Live!, extended shopping hours, restaurants ready to welcome you, Kids Zone, food and beverage vendors along Main Street and a CRUISE IN! Don't forget your chair and dancin' shoes!</p><p>Elton Live! — The Elton John Experience offers the most complete and authentic reproduction of Sir Elton John’s live concert performance in the world. Their shows are the most accurate representation of Sir Elton John in his absolute prime of the 1970's, 80's, 90's and beyond!</p><p>SPECIAL THANKS TO OUR FIRST FRIDAY SPONSORS!!<br>Canton Stage Sponsor - Hasty Pope<br>Presenting Sponsor - Rob Taylor with Great Sky Realty Group<br>Platinum Sponsors - Servicewise Electric, Revive Day Spa &amp; Boutique Canton, Rock N Roll Sushi Canton, Jape Services, Your Pie, and Sanctu•aire Canton<br>Gold Sponsors - Universal Alloy Corporation, Waste Pro USA, Capital Recovery Corporation, Go Kinetic Home Georgia, TapatiosCanton, Indulgence Fine Jewelry and Searched Marketing<br>Kids Zone Sponsors - DT Chiropractic, ClickFunnels and The Med Spa at Revive<br>Silver Sponsor - Darby Funeral Home<br><br>For more information visit: https://www.facebook.com/photo/?fbid=683525500447288&amp;set=a.494548039345036</p><p></p>
LOCATION:Downtown Canton\, 130 East Main Street Canton\, Georgia 30114
CLASS:PUBLIC
END:VEVENT
END:VCALENDAR
