BEGIN:VCALENDAR
VERSION:2.0
PRODID:Canton, GA Calendar Creator
METHOD:PUBLISH
BEGIN:VEVENT
DTSTAMP:20230424T104252
DTSTART:20230424T150000
DTEND:20230424T180000
SUMMARY:Teen | Young Adult - Jobs & Resources Fair
DESCRIPTION:<p>&nbsp;</p><p>Teens and Young Adults...are you looking for that summer-only job, part-time job, internship, or looking to fulfill volunteer service hours? Then join us for the City's second annual:&nbsp;</p><h3><span style="color: rgb(0, 176, 80);">Jobs &amp; Resources Fair for Teens and Young Adults</span></h3><h3><span style="color: rgb(0, 112, 192);">April 24, from 3-6 PM | City Hall Auditorium</span></h3><h3>Presented by CanTeen and the City of Canton</h3><p>Many businesses who are hiring  and organizations looking for service volunteers will be there.&nbsp;These include (and this list will be updated daily):</p><ul>    <li>Gekko Kitchen</li>    <li>Sweety's Cafe and Ice Cream Bar</li>    <li>Canton Gymnastics Center</li>    <li>Thai Mango</li>    <li>Universal Alloy</li>    <li>Anna Christine Bridal&nbsp;</li>    <li>Reinhardt University</li>    <li>Cherokee Recreation and Parks</li>    <li>Cherokee Office of Economic Development | Internship Program</li>    <li>Pilgrim's&nbsp;</li>    <li>McDonald's</li>    <li>Chick-fil-A</li>    <li>Cherokee Parks &amp; Rec&nbsp;</li>    <li>YMCA</li>    <li>Sequoyah Regional Library System</li>    <li>Waffle House</li>    <li>Bananas + Beehives</li>    <li>City of Canton Parks &amp; Rec</li>    <li>City of Canton Public Works</li>    <li>City of Canton Police Department</li></ul><p>Mentors will be on hand to provide resume reviews and interview tips. You can enjoy FREE snacks and drinks, and you will have plenty chances to win raffle prizes.</p><p><strong>Parents, share with your teens; Teens, tell your friends! </strong>Don't miss out on this exciting event!</p><p>&nbsp;If you are a business or organization interested in participating in this event, please contact Lauren Johnson at <a href="mailto:&#108;&#97;&#117;&#114;&#101;&#110;&#46;&#106;&#111;&#104;&#110;&#115;&#111;&#110;&#64;&#99;&#97;&#110;&#116;&#111;&#110;&#103;&#97;&#46;&#103;&#111;&#118;&#63;&#115;&#117;&#98;&#106;&#101;&#99;&#116;&#61;&#80;&#97;&#114;&#116;&#105;&#99;&#105;&#112;&#97;&#116;&#105;&#111;&#110;&#32;&#73;&#110;&#116;&#101;&#114;&#101;&#115;&#116;&#32;&#105;&#110;&#32;&#84;&#101;&#101;&#110;&#32;&#74;&#111;&#98;&#32;&#70;&#97;&#105;&#114;">lauren.johnson@cantonga.gov</a></p>
X-ALT-DESC;FMTTYPE=text/html:<p>&nbsp;</p><p>Teens and Young Adults...are you looking for that summer-only job, part-time job, internship, or looking to fulfill volunteer service hours? Then join us for the City's second annual:&nbsp;</p><h3><span style="color: rgb(0, 176, 80);">Jobs &amp; Resources Fair for Teens and Young Adults</span></h3><h3><span style="color: rgb(0, 112, 192);">April 24, from 3-6 PM | City Hall Auditorium</span></h3><h3>Presented by CanTeen and the City of Canton</h3><p>Many businesses who are hiring  and organizations looking for service volunteers will be there.&nbsp;These include (and this list will be updated daily):</p><ul>    <li>Gekko Kitchen</li>    <li>Sweety's Cafe and Ice Cream Bar</li>    <li>Canton Gymnastics Center</li>    <li>Thai Mango</li>    <li>Universal Alloy</li>    <li>Anna Christine Bridal&nbsp;</li>    <li>Reinhardt University</li>    <li>Cherokee Recreation and Parks</li>    <li>Cherokee Office of Economic Development | Internship Program</li>    <li>Pilgrim's&nbsp;</li>    <li>McDonald's</li>    <li>Chick-fil-A</li>    <li>Cherokee Parks &amp; Rec&nbsp;</li>    <li>YMCA</li>    <li>Sequoyah Regional Library System</li>    <li>Waffle House</li>    <li>Bananas + Beehives</li>    <li>City of Canton Parks &amp; Rec</li>    <li>City of Canton Public Works</li>    <li>City of Canton Police Department</li></ul><p>Mentors will be on hand to provide resume reviews and interview tips. You can enjoy FREE snacks and drinks, and you will have plenty chances to win raffle prizes.</p><p><strong>Parents, share with your teens; Teens, tell your friends! </strong>Don't miss out on this exciting event!</p><p>&nbsp;If you are a business or organization interested in participating in this event, please contact Lauren Johnson at <a href="mailto:&#108;&#97;&#117;&#114;&#101;&#110;&#46;&#106;&#111;&#104;&#110;&#115;&#111;&#110;&#64;&#99;&#97;&#110;&#116;&#111;&#110;&#103;&#97;&#46;&#103;&#111;&#118;&#63;&#115;&#117;&#98;&#106;&#101;&#99;&#116;&#61;&#80;&#97;&#114;&#116;&#105;&#99;&#105;&#112;&#97;&#116;&#105;&#111;&#110;&#32;&#73;&#110;&#116;&#101;&#114;&#101;&#115;&#116;&#32;&#105;&#110;&#32;&#84;&#101;&#101;&#110;&#32;&#74;&#111;&#98;&#32;&#70;&#97;&#105;&#114;">lauren.johnson@cantonga.gov</a></p>
LOCATION:City Hall\, 110 Academy Street Canton\, Georgia 30114-3003
CLASS:PUBLIC
END:VEVENT
END:VCALENDAR
