BEGIN:VCALENDAR
VERSION:2.0
PRODID:Canton, GA Calendar Creator
METHOD:PUBLISH
BEGIN:VEVENT
DTSTAMP:20230315T125440
DTSTART:20230617T200000
DTEND:20230617T220000
SUMMARY:A Bad Year for Tomatoes By John Patrick
DESCRIPTION:<p>Fed up with the pressures and demands of her acting career, the famous Myra Marlowe leases a house in the tiny New England hamlet of Beaver Haven and settles down to write her autobiography. She is successful in turning aside the offers pressed on her by her long-time agent, but dealing with her nosy, omnipresent neighbors is a different matter. In an attempt to shoo them away, and gain some privacy, Myra invents a mad, homicidal sister—who is kept locked in an upstairs room, but who occasionally escapes long enough to scare off uninvited visitors.<br><br>For more information and tickets visit: https://www.cherokeetheatre.org/shows/</p><p></p>
X-ALT-DESC;FMTTYPE=text/html:<p>Fed up with the pressures and demands of her acting career, the famous Myra Marlowe leases a house in the tiny New England hamlet of Beaver Haven and settles down to write her autobiography. She is successful in turning aside the offers pressed on her by her long-time agent, but dealing with her nosy, omnipresent neighbors is a different matter. In an attempt to shoo them away, and gain some privacy, Myra invents a mad, homicidal sister—who is kept locked in an upstairs room, but who occasionally escapes long enough to scare off uninvited visitors.<br><br>For more information and tickets visit: https://www.cherokeetheatre.org/shows/</p><p></p>
LOCATION:Canton Theatre\, 171 E Main St. Canton\, Georgia 30114
CLASS:PUBLIC
END:VEVENT
END:VCALENDAR
