BEGIN:VCALENDAR
VERSION:2.0
PRODID:Canton, GA Calendar Creator
METHOD:PUBLISH
BEGIN:VEVENT
DTSTAMP:20230907T092656
DTSTART:20230923T100000
DTEND:20230923T180000
SUMMARY:Riverfest Arts and Crafts Festival
DESCRIPTION:<p>Featured against the picturesque banks of the Etowah River Park in Canton, the Riverfest Arts &amp; Crafts festival is the League’s flagship fundraising event where all funds raised support Cherokee County children in need. The two-day festival draws over 25,000 patrons, over 150 arts crafts exhibitors, 10-20 concessionaires, and a host of local entertainers.</p><p>Riverfest 2023:<br>Saturday, September 23, 2023 from 10:00 AM – 6:00 PM<br>Sunday, September 24, 2023 from 10:00 AM – 5:00 PM</p><p>Etowah River Park - 600 Brown Industrial Pkwy, Canton<br>Admission: $7 donation per person 11 years and up</p><p></p>
X-ALT-DESC;FMTTYPE=text/html:<p>Featured against the picturesque banks of the Etowah River Park in Canton, the Riverfest Arts &amp; Crafts festival is the League’s flagship fundraising event where all funds raised support Cherokee County children in need. The two-day festival draws over 25,000 patrons, over 150 arts crafts exhibitors, 10-20 concessionaires, and a host of local entertainers.</p><p>Riverfest 2023:<br>Saturday, September 23, 2023 from 10:00 AM – 6:00 PM<br>Sunday, September 24, 2023 from 10:00 AM – 5:00 PM</p><p>Etowah River Park - 600 Brown Industrial Pkwy, Canton<br>Admission: $7 donation per person 11 years and up</p><p></p>
LOCATION:Etowah River Park\, 600 Brown Industrial Parkway Canton\, Georgia 30114
CLASS:PUBLIC
END:VEVENT
END:VCALENDAR
