BEGIN:VCALENDAR
VERSION:2.0
PRODID:Canton, GA Calendar Creator
METHOD:PUBLISH
BEGIN:VEVENT
DTSTAMP:20230306T153017
DTSTART:20230506T080000
DTEND:20230506T100000
SUMMARY:Cherokee Chase 5K
DESCRIPTION:<p>The 1st&nbsp; annual Cherokee Chase – presented by Cherokee Christian Schools, is a 5K and 1 Mile Fun Run held at Etowah River Park in Canton GA. Proceeds from the race will support student athletes at Cherokee Christian School, as well as the Andrea Elmore Scholarship Fund. The scholarship benefits students looking to attend Bible College, Christ in Youth conferences, or short-term mission trips. Chip timing to be provided by SoleRoots Racing.<br><br>Dates Times to Know:<br>o Location: Cherokee Christian School (3075 Trickum Rd, Woodstock GA)<br>o Friday, May 5 th 4:30-7:30<br>Race Day: Saturday May 6 th , 2023<br>o Location: Etowah River Park<br>&nbsp; • 7:00-7:30am - Race Day Registration and Packet Pickup<br>&nbsp; • 8:00am – 5K<br>&nbsp; • 9:00am – 1 Mile Fun Run<br>&nbsp; • 9:30am – Awards</p><p>For more information visit:&nbsp;https://runsignup.com/Race/GA/Canton/CherokeeChase</p><p>&nbsp;</p>
X-ALT-DESC;FMTTYPE=text/html:<p>The 1st&nbsp; annual Cherokee Chase – presented by Cherokee Christian Schools, is a 5K and 1 Mile Fun Run held at Etowah River Park in Canton GA. Proceeds from the race will support student athletes at Cherokee Christian School, as well as the Andrea Elmore Scholarship Fund. The scholarship benefits students looking to attend Bible College, Christ in Youth conferences, or short-term mission trips. Chip timing to be provided by SoleRoots Racing.<br><br>Dates Times to Know:<br>o Location: Cherokee Christian School (3075 Trickum Rd, Woodstock GA)<br>o Friday, May 5 th 4:30-7:30<br>Race Day: Saturday May 6 th , 2023<br>o Location: Etowah River Park<br>&nbsp; • 7:00-7:30am - Race Day Registration and Packet Pickup<br>&nbsp; • 8:00am – 5K<br>&nbsp; • 9:00am – 1 Mile Fun Run<br>&nbsp; • 9:30am – Awards</p><p>For more information visit:&nbsp;https://runsignup.com/Race/GA/Canton/CherokeeChase</p><p>&nbsp;</p>
LOCATION:Etowah River Park\, 600 Brown Industrial Parkway Canton\, Georgia 30114
CLASS:PUBLIC
END:VEVENT
END:VCALENDAR
