BEGIN:VCALENDAR
VERSION:2.0
PRODID:Canton, GA Calendar Creator
METHOD:PUBLISH
BEGIN:VEVENT
DTSTAMP:20230215T164227
DTSTART:20230429T100000
DTEND:20230429T160000
SUMMARY:Garden in the Park
DESCRIPTION:<p>Join us for Canton's Garden in the Park featuring handmade art, flowers, plants and more! For an application and more information visit: <a href="https://www.cantonga.gov/gardeninthepark" target="_blank">www.cantonga.gov/gardeninthepark</a></p><p></p>
X-ALT-DESC;FMTTYPE=text/html:<p>Join us for Canton's Garden in the Park featuring handmade art, flowers, plants and more! For an application and more information visit: <a href="https://www.cantonga.gov/gardeninthepark" target="_blank">www.cantonga.gov/gardeninthepark</a></p><p></p>
LOCATION:Downtown Canton\, 130 East Main Street Canton\, Georgia 30114
CLASS:PUBLIC
END:VEVENT
END:VCALENDAR
