BEGIN:VCALENDAR
VERSION:2.0
PRODID:Canton, GA Calendar Creator
METHOD:PUBLISH
BEGIN:VEVENT
DTSTAMP:20230210T093546
DTSTART:20230422T190000
DTEND:20230422T210000
SUMMARY:Kurt Sutton in "An Evening with Mark Twain"
DESCRIPTION:<p>Kurt Sutton has toured and performed as Mark Twain and Samuel Clemens for many years in theatres and events throughout the United States. "An Evening with Mark Twain" has Mark Twain telling the hilarious and witty stories for which he is famous, along with Samuel Clemens offering comments of a personal nature and music.&nbsp;</p><p>Tickets available at&nbsp;<a href="https://cantonga.governmentwindow.com/estore/theater/canton-theatre.html" target="_blank">https://cantonga.governmentwindow.com/estore/theater/canton-theatre.html</a></p><p></p><br>
X-ALT-DESC;FMTTYPE=text/html:<p>Kurt Sutton has toured and performed as Mark Twain and Samuel Clemens for many years in theatres and events throughout the United States. "An Evening with Mark Twain" has Mark Twain telling the hilarious and witty stories for which he is famous, along with Samuel Clemens offering comments of a personal nature and music.&nbsp;</p><p>Tickets available at&nbsp;<a href="https://cantonga.governmentwindow.com/estore/theater/canton-theatre.html" target="_blank">https://cantonga.governmentwindow.com/estore/theater/canton-theatre.html</a></p><p></p><br>
LOCATION:Canton Theatre\, 171 E Main St. Canton\, Georgia 30114
CLASS:PUBLIC
END:VEVENT
END:VCALENDAR
